BEGIN:VCALENDAR
VERSION:2.0
PRODID:spatie/icalendar-generator
NAME:Speciale del giovedì: il classico di Lucerna
X-WR-CALNAME:Speciale del giovedì: il classico di Lucerna
SOURCE;VALUE=URI:https://pilatus.ch/it/api/ics/event-81572.ics
BEGIN:VTIMEZONE
TZID:Europe/Zurich
BEGIN:STANDARD
DTSTART:20251026T030000
TZOFFSETFROM:+0200
TZOFFSETTO:+0100
END:STANDARD
BEGIN:DAYLIGHT
DTSTART:20260329T010000
TZOFFSETFROM:+0100
TZOFFSETTO:+0200
END:DAYLIGHT
BEGIN:STANDARD
DTSTART:20261025T030000
TZOFFSETFROM:+0200
TZOFFSETTO:+0100
END:STANDARD
END:VTIMEZONE
BEGIN:VTIMEZONE
TZID:UTC
BEGIN:STANDARD
DTSTART:20250728T145432
TZOFFSETFROM:+0000
TZOFFSETTO:+0000
END:STANDARD
END:VTIMEZONE
BEGIN:VEVENT
UID:3956bb6e-7c20-42de-b17f-017a6f33b2ac
DTSTAMP:20260424T145432Z
SUMMARY:Speciale del giovedì: il classico di Lucerna
DESCRIPTION:Chügelipastetli: gustate il piatto tipico di Lucerna in alto s
 opra la città.
LOCATION:Pilatus Kulm
X-MICROSOFT-CDO-ALLDAYEVENT:TRUE
URL:https://pilatus.ch/it/attivita/speciale-del-giovedi
DTSTART;TZID=Europe/Zurich;VALUE=DATE:20260430
DTEND;TZID=Europe/Zurich;VALUE=DATE:20260430
END:VEVENT
END:VCALENDAR