BEGIN:VCALENDAR
VERSION:2.0
PRODID:spatie/icalendar-generator
NAME:Cappello tartaro
X-WR-CALNAME:Cappello tartaro
SOURCE;VALUE=URI:https://pilatus.ch/it/api/ics/event-65964.ics
BEGIN:VTIMEZONE
TZID:Europe/Zurich
BEGIN:STANDARD
DTSTART:20251026T030000
TZOFFSETFROM:+0200
TZOFFSETTO:+0100
END:STANDARD
BEGIN:DAYLIGHT
DTSTART:20260329T010000
TZOFFSETFROM:+0100
TZOFFSETTO:+0200
END:DAYLIGHT
BEGIN:STANDARD
DTSTART:20261025T030000
TZOFFSETFROM:+0200
TZOFFSETTO:+0100
END:STANDARD
END:VTIMEZONE
BEGIN:VTIMEZONE
TZID:UTC
BEGIN:STANDARD
DTSTART:20250728T145432
TZOFFSETFROM:+0000
TZOFFSETTO:+0000
END:STANDARD
END:VTIMEZONE
BEGIN:VEVENT
UID:2946f764-206c-41bc-a8fc-a7bc55a097e3
DTSTAMP:20260424T145432Z
SUMMARY:Cappello tartaro
DESCRIPTION:Pranzo gustoso con il cappello tartaro sulla Fräkmüntegg: gri
 gliare e gustare insieme carne\, verdure e contorni.
LOCATION:Fräkmüntegg
URL:https://pilatus.ch/it/attivita/cappello-tartaro
DTSTART;TZID=Europe/Zurich:20260425T120000
DTEND;TZID=Europe/Zurich:20260425T235959
END:VEVENT
END:VCALENDAR