BEGIN:VCALENDAR
VERSION:2.0
PRODID:spatie/icalendar-generator
NAME:Chapeau tatare à discrétion
X-WR-CALNAME:Chapeau tatare à discrétion
SOURCE;VALUE=URI:https://pilatus.ch/fr/api/ics/event-65964.ics
BEGIN:VTIMEZONE
TZID:Europe/Zurich
BEGIN:STANDARD
DTSTART:20251026T030000
TZOFFSETFROM:+0200
TZOFFSETTO:+0100
END:STANDARD
BEGIN:DAYLIGHT
DTSTART:20260329T010000
TZOFFSETFROM:+0100
TZOFFSETTO:+0200
END:DAYLIGHT
BEGIN:STANDARD
DTSTART:20261025T030000
TZOFFSETFROM:+0200
TZOFFSETTO:+0100
END:STANDARD
END:VTIMEZONE
BEGIN:VTIMEZONE
TZID:UTC
BEGIN:STANDARD
DTSTART:20250728T132752
TZOFFSETFROM:+0000
TZOFFSETTO:+0000
END:STANDARD
END:VTIMEZONE
BEGIN:VEVENT
UID:2946f764-206c-41bc-a8fc-a7bc55a097e3
DTSTAMP:20260424T132752Z
SUMMARY:Chapeau tatare à discrétion
DESCRIPTION:Savourez un repas chaleureux autour du chapeau tatare à Fräkm
 üntegg : faites griller et dégustez ensemble\, à table\, viande\, légu
 mes et accompagnements.
LOCATION:Fräkmüntegg
URL:https://pilatus.ch/fr/activites/chapeau-tatare
DTSTART;TZID=Europe/Zurich:20260425T120000
DTEND;TZID=Europe/Zurich:20260425T235959
END:VEVENT
END:VCALENDAR