BEGIN:VCALENDAR
VERSION:2.0
PRODID:spatie/icalendar-generator
NAME:Krimi Dinner
X-WR-CALNAME:Krimi Dinner
SOURCE;VALUE=URI:https://pilatus.ch/api/ics/event-79370.ics
BEGIN:VTIMEZONE
TZID:Europe/Zurich
BEGIN:STANDARD
DTSTART:20251026T030000
TZOFFSETFROM:+0200
TZOFFSETTO:+0100
END:STANDARD
BEGIN:DAYLIGHT
DTSTART:20260329T010000
TZOFFSETFROM:+0100
TZOFFSETTO:+0200
END:DAYLIGHT
BEGIN:STANDARD
DTSTART:20261025T030000
TZOFFSETFROM:+0200
TZOFFSETTO:+0100
END:STANDARD
END:VTIMEZONE
BEGIN:VTIMEZONE
TZID:UTC
BEGIN:STANDARD
DTSTART:20250728T145433
TZOFFSETFROM:+0000
TZOFFSETTO:+0000
END:STANDARD
END:VTIMEZONE
BEGIN:VEVENT
UID:cb74c848-a20c-4d99-8900-b8055dcc67ed
DTSTAMP:20260424T145433Z
SUMMARY:Krimi Dinner
DESCRIPTION:Lassen Sie sich von einem dramatischen Krimi in den Bann ziehen
  und seien Sie hautnah bei den Ermittlungen dabei. Ein köstliches 4-Gang 
 Menü im festlichen Restaurant Pilatus-Kulm sowie eine Übernachtung auf 2
 132 Meter über Meer runden das einmalige Erlebnis ab.
LOCATION:Pilatus Kulm
X-MICROSOFT-CDO-ALLDAYEVENT:TRUE
URL:https://pilatus.ch/aktivitaeten/krimi-dinner
DTSTART;TZID=Europe/Zurich;VALUE=DATE:20260508
DTEND;TZID=Europe/Zurich;VALUE=DATE:20260508
END:VEVENT
END:VCALENDAR